Workbook

Sheet (はじめにお読み下さい)申請書の使い方
B2: 【郵送用】本申請書の使い方、申請の手順
B4: ●実施スケジュール
B5: ・実施期間：
B6: ①介護事業所等→令和8年9月11日(金)～11月30日(月)
B7: ②介護施設等→令和7年4月1日(火)～11月30日(月)
B8: ③障害福祉サービス事業所等→令和8年8月21日(金)～11月30日(月)
B9: ・申請期間：令和8年11月1日（日）～令和8年11月30日（月）
B10: ・交付決定：審査完了後、県から交付決定兼額の確定通知書を申請者へお送りいたします。
B11: ・補助金の支払い：審査完了後、県から支給いたします。（令和9年3月31日までに支給）
B13: ●申請スケジュール
B14: はじめに本シートのセルに入力することで、申請対象となる施設・事業所等に関する基本的な情報が各シートに自動的に転記されます
B15: 【重要】本申請手順は、介護施設及び介護事業所及び障害福祉サービス事業所等に対する申請様式です。
... B26: ⑥完成したExcelファイル及び必要書類を郵送で申請
B28: 個票番号 | C28: 整理番号 | D28: 事業所・施設名 | E28: 郵便番号 | F28: 所在地 | G28: サービス種別 | H28: 電話番号 | I28: 担当部署 | J28: 要件1 | K28: 要件2 | L28: 要件3
B29: 1 | C29: {=INDIRECT("個票１!H7")} -> 0 | D29: {=INDIRECT("個票１!T7")} -> 0 | E29: {=INDIRECT("個票１!D9")} -> 0 | F29: {=INDIRECT("個票１!O9")} -> 0 | G29: {=INDIRECT("個票１!H10")} | H29: {=INDIRECT("個票１!W11")} -> 0 | I29: {=INDIRECT("個票１!AG11")} -> 0 | J29: {=INDIRECT("個票１!X15")} -> 0 | K29: {=INDIRECT("個票１!X16")} -> 0 | L29: {=INDIRECT("個票１!X17")} -> 0
B30: 2 | C30: {=INDIRECT("個票2!H7")} -> 0 | D30: {=INDIRECT("個票2!T7")} -> 0 | E30: {=INDIRECT("個票2!D9")} -> 0 | F30: {=INDIRECT("個票2!O9")} -> 0 | G30: {=INDIRECT("個票2!H10")} | H30: {=INDIRECT("個票2!W11")} -> 0 | I30: {=INDIRECT("個票2!AG11")} -> 0 | J30: {=INDIRECT("個票2!X15")} -> 0 | K30: {=INDIRECT("個票2!X16")} -> 0 | L30: {=INDIRECT("個票2!X17")} -> 0
B31: 3 | C31: {=INDIRECT("個票3!H7")} -> 0 | D31: {=INDIRECT("個票3!T7")} -> 0 | E31: {=INDIRECT("個票3!D9")} -> 0 | F31: {=INDIRECT("個票3!O9")} -> 0 | G31: {=INDIRECT("個票3!H10")} | H31: {=INDIRECT("個票3!W11")} -> 0 | I31: {=INDIRECT("個票3!AG11")} -> 0 | J31: {=INDIRECT("個票3!X15")} -> 0 | K31: {=INDIRECT("個票3!X16")} -> 0 | L31: {=INDIRECT("個票3!X17")} -> 0
B32: 4 | C32: {=INDIRECT("個票4!H7")} -> 0 | D32: {=INDIRECT("個票4!T7")} -> 0 | E32: {=INDIRECT("個票4!D9")} -> 0 | F32: {=INDIRECT("個票4!O9")} -> 0 | G32: {=INDIRECT("個票4!H10")} | H32: {=INDIRECT("個票4!W11")} -> 0 | I32: {=INDIRECT("個票4!AG11")} -> 0 | J32: {=INDIRECT("個票4!X15")} -> 0 | K32: {=INDIRECT("個票4!X16")} -> 0 | L32: {=INDIRECT("個票4!X17")} -> 0
B33: 5 | C33: {=INDIRECT("個票5!H7")} -> 0 | D33: {=INDIRECT("個票5!T7")} -> 0 | E33: {=INDIRECT("個票5!D9")} -> 0 | F33: {=INDIRECT("個票5!O9")} -> 0 | G33: {=INDIRECT("個票5!H10")} | H33: {=INDIRECT("個票5!W11")} -> 0 | I33: {=INDIRECT("個票5!AG11")} -> 0 | J33: {=INDIRECT("個票5!X15")} -> 0 | K33: {=INDIRECT("個票5!X16")} -> 0 | L33: {=INDIRECT("個票5!X17")} -> 0
B34: 6 | C34: {=INDIRECT("個票6!H7")} -> 0 | D34: {=INDIRECT("個票6!T7")} -> 0 | E34: {=INDIRECT("個票6!D9")} -> 0 | F34: {=INDIRECT("個票6!O9")} -> 0 | G34: {=INDIRECT("個票6!H10")} | H34: {=INDIRECT("個票6!W11")} -> 0 | I34: {=INDIRECT("個票6!AG11")} -> 0 | J34: {=INDIRECT("個票6!X15")} -> 0 | K34: {=INDIRECT("個票6!X16")} -> 0 | L34: {=INDIRECT("個票6!X17")} -> 0
B35: 7 | C35: {=INDIRECT("個票7!H7")} -> 0 | D35: {=INDIRECT("個票7!T7")} -> 0 | E35: {=INDIRECT("個票7!D9")} -> 0 | F35: {=INDIRECT("個票7!O9")} -> 0 | G35: {=INDIRECT("個票7!H10")} | H35: {=INDIRECT("個票7!W11")} -> 0 | I35: {=INDIRECT("個票7!AG11")} -> 0 | J35: {=INDIRECT("個票7!X15")} -> 0 | K35: {=INDIRECT("個票7!X16")} -> 0 | L35: {=INDIRECT("個票7!X17")} -> 0
B36: 8 | C36: {=INDIRECT("個票8!H7")} -> 0 | D36: {=INDIRECT("個票8!T7")} -> 0 | E36: {=INDIRECT("個票8!D9")} -> 0 | F36: {=INDIRECT("個票8!O9")} -> 0 | G36: {=INDIRECT("個票8!H10")} | H36: {=INDIRECT("個票8!W11")} -> 0 | I36: {=INDIRECT("個票8!AG11")} -> 0 | J36: {=INDIRECT("個票8!X15")} -> 0 | K36: {=INDIRECT("個票8!X16")} -> 0 | L36: {=INDIRECT("個票8!X17")} -> 0
B37: 9 | C37: {=INDIRECT("個票9!H7")} -> 0 | D37: {=INDIRECT("個票9!T7")} -> 0 | E37: {=INDIRECT("個票9!D9")} -> 0 | F37: {=INDIRECT("個票9!O9")} -> 0 | G37: {=INDIRECT("個票9!H10")} | H37: {=INDIRECT("個票9!W11")} -> 0 | I37: {=INDIRECT("個票9!AG11")} -> 0 | J37: {=INDIRECT("個票9!X15")} -> 0 | K37: {=INDIRECT("個票9!X16")} -> 0 | L37: {=INDIRECT("個票9!X17")} -> 0
B38: 10 | C38: {=INDIRECT("個票10!H7")} -> 0 | D38: {=INDIRECT("個票10!T7")} -> 0 | E38: {=INDIRECT("個票10!D9")} -> 0 | F38: {=INDIRECT("個票10!O9")} -> 0 | G38: {=INDIRECT("個票10!H10")} | H38: {=INDIRECT("個票10!W11")} -> 0 | I38: {=INDIRECT("個票10!AG11")} -> 0 | J38: {=INDIRECT("個票10!X15")} -> 0 | K38: {=INDIRECT("個票10!X16")} -> 0 | L38: {=INDIRECT("個票10!X17")} -> 0
B39: 11 | C39: {=INDIRECT("個票11!H7")} -> 0 | D39: {=INDIRECT("個票11!T7")} -> 0 | E39: {=INDIRECT("個票11!D9")} -> 0 | F39: {=INDIRECT("個票11!O9")} -> 0 | G39: {=INDIRECT("個票11!H10")} | H39: {=INDIRECT("個票11!W11")} -> 0 | I39: {=INDIRECT("個票11!AG11")} -> 0 | J39: {=INDIRECT("個票11!X15")} -> 0 | K39: {=INDIRECT("個票11!X16")} -> 0 | L39: {=INDIRECT("個票11!X17")} -> 0
B40: 12 | C40: {=INDIRECT("個票12!H7")} -> 0 | D40: {=INDIRECT("個票12!T7")} -> 0 | E40: {=INDIRECT("個票12!D9")} -> 0 | F40: {=INDIRECT("個票12!O9")} -> 0 | G40: {=INDIRECT("個票12!H10")} | H40: {=INDIRECT("個票12!W11")} -> 0 | I40: {=INDIRECT("個票12!AG11")} -> 0 | J40: {=INDIRECT("個票12!X15")} -> 0 | K40: {=INDIRECT("個票12!X16")} -> 0 | L40: {=INDIRECT("個票12!X17")} -> 0
B41: 13 | C41: {=INDIRECT("個票13!H7")} -> 0 | D41: {=INDIRECT("個票13!T7")} -> 0 | E41: {=INDIRECT("個票13!D9")} -> 0 | F41: {=INDIRECT("個票13!O9")} -> 0 | G41: {=INDIRECT("個票13!H10")} | H41: {=INDIRECT("個票13!W11")} -> 0 | I41: {=INDIRECT("個票13!AG11")} -> 0 | J41: {=INDIRECT("個票13!X15")} -> 0 | K41: {=INDIRECT("個票13!X16")} -> 0 | L41: {=INDIRECT("個票13!X17")} -> 0
B42: 14 | C42: {=INDIRECT("個票14!H7")} -> 0 | D42: {=INDIRECT("個票14!T7")} -> 0 | E42: {=INDIRECT("個票14!D9")} -> 0 | F42: {=INDIRECT("個票14!O9")} -> 0 | G42: {=INDIRECT("個票14!H10")} | H42: {=INDIRECT("個票14!W11")} -> 0 | I42: {=INDIRECT("個票14!AG11")} -> 0 | J42: {=INDIRECT("個票14!X15")} -> 0 | K42: {=INDIRECT("個票14!X16")} -> 0 | L42: {=INDIRECT("個票14!X17")} -> 0
B43: 15 | C43: {=INDIRECT("個票15!H7")} -> 0 | D43: {=INDIRECT("個票15!T7")} -> 0 | E43: {=INDIRECT("個票15!D9")} -> 0 | F43: {=INDIRECT("個票15!O9")} -> 0 | G43: {=INDIRECT("個票15!H10")} | H43: {=INDIRECT("個票15!W11")} -> 0 | I43: {=INDIRECT("個票15!AG11")} -> 0 | J43: {=INDIRECT("個票15!X15")} -> 0 | K43: {=INDIRECT("個票15!X16")} -> 0 | L43: {=INDIRECT("個票15!X17")} -> 0
B44: 16 | C44: {=INDIRECT("個票16!H7")} -> 0 | D44: {=INDIRECT("個票16!T7")} -> 0 | E44: {=INDIRECT("個票16!D9")} -> 0 | F44: {=INDIRECT("個票16!O9")} -> 0 | G44: {=INDIRECT("個票16!H10")} | H44: {=INDIRECT("個票16!W11")} -> 0 | I44: {=INDIRECT("個票16!AG11")} -> 0 | J44: {=INDIRECT("個票16!X15")} -> 0 | K44: {=INDIRECT("個票16!X16")} -> 0 | L44: {=INDIRECT("個票16!X17")} -> 0
B45: 17 | C45: {=INDIRECT("個票17!H7")} -> 0 | D45: {=INDIRECT("個票17!T7")} -> 0 | E45: {=INDIRECT("個票17!D9")} -> 0 | F45: {=INDIRECT("個票17!O9")} -> 0 | G45: {=INDIRECT("個票17!H10")} | H45: {=INDIRECT("個票17!W11")} -> 0 | I45: {=INDIRECT("個票17!AG11")} -> 0 | J45: {=INDIRECT("個票17!X15")} -> 0 | K45: {=INDIRECT("個票17!X16")} -> 0 | L45: {=INDIRECT("個票17!X17")} -> 0
B46: 18 | C46: {=INDIRECT("個票18!H7")} -> 0 | D46: {=INDIRECT("個票18!T7")} -> 0 | E46: {=INDIRECT("個票18!D9")} -> 0 | F46: {=INDIRECT("個票18!O9")} -> 0 | G46: {=INDIRECT("個票18!H10")} | H46: {=INDIRECT("個票18!W11")} -> 0 | I46: {=INDIRECT("個票18!AG11")} -> 0 | J46: {=INDIRECT("個票18!X15")} -> 0 | K46: {=INDIRECT("個票18!X16")} -> 0 | L46: {=INDIRECT("個票18!X17")} -> 0
B47: 19 | C47: {=INDIRECT("個票19!H7")} -> 0 | D47: {=INDIRECT("個票19!T7")} -> 0 | E47: {=INDIRECT("個票19!D9")} -> 0 | F47: {=INDIRECT("個票19!O9")} -> 0 | G47: {=INDIRECT("個票19!H10")} | H47: {=INDIRECT("個票19!W11")} -> 0 | I47: {=INDIRECT("個票19!AG11")} -> 0 | J47: {=INDIRECT("個票19!X15")} -> 0 | K47: {=INDIRECT("個票19!X16")} -> 0 | L47: {=INDIRECT("個票19!X17")} -> 0
B48: 20 | C48: {=INDIRECT("個票20!H7")} -> 0 | D48: {=INDIRECT("個票20!T7")} -> 0 | E48: {=INDIRECT("個票20!D9")} -> 0 | F48: {=INDIRECT("個票20!O9")} -> 0 | G48: {=INDIRECT("個票20!H10")} | H48: {=INDIRECT("個票20!W11")} -> 0 | I48: {=INDIRECT("個票20!AG11")} -> 0 | J48: {=INDIRECT("個票20!X15")} -> 0 | K48: {=INDIRECT("個票20!X16")} -> 0 | L48: {=INDIRECT("個票20!X17")} -> 0
B50: 個票番号 | C50: 整理番号 | D50: 事業所名 | E50: 科目 | F50: 支出済額（円） | G50: 内訳 | H50: 内示額（千円） | I50: 申請額（千円） | K50: 個票番号 | L50: 整理番号 | M50: 事業所名 | N50: 科目 | O50: 支出済額（円） | P50: 内訳 | Q50: 内示額（千円） | R50: 申請額（千円）
B51: 1 | C51: {=INDIRECT("個票１!H7")} -> 0 | D51: {=INDIRECT("個票１!T7")} -> 0 | E51: {=INDIRECT("個票１!A25")} -> (ア)燃料費、有料道路通行料等の移動に伴い必要となる経費 | F51: {=INDIRECT("個票１!H25")} -> 0 | G51: {=INDIRECT("個票１!M25")} -> 0 | H51: {=INDIRECT("個票１!AD22")} | I51: {=INDIRECT("個票１!AI22")} -> 0 | K51: 1 | L51: {=INDIRECT("個票１!H7")} -> 0 | M51: {=INDIRECT("個票１!T7")} -> 0 | N51: {=INDIRECT("個票１!A33")} -> (ア)飲料水、食料品等の備蓄物資の購入等経費 | O51: {=INDIRECT("個票１!H33")} -> 0 | P51: {=INDIRECT("個票１!M33")} -> 0 | Q51: {=INDIRECT("個票１!AD22")} | R51: {=INDIRECT("個票１!AI22")} -> 0
B52: 1 | C52: {=INDIRECT("個票１!H7")} -> 0 | D52: {=INDIRECT("個票１!T7")} -> 0 | E52: {=INDIRECT("個票１!A26")} -> (イ)ネッククーラー（ヒーター）等の猛暑・雪害対策用品の購入等経費 | F52: {=INDIRECT("個票１!H26")} -> 0 | G52: {=INDIRECT("個票１!M26")} -> 0 | H52: {=INDIRECT("個票１!AD22")} | I52: {=INDIRECT("個票１!AI22")} -> 0 | K52: 1 | L52: {=INDIRECT("個票１!H7")} -> 0 | M52: {=INDIRECT("個票１!T7")} -> 0 | N52: {=INDIRECT("個票１!A34")} -> (イ)ポータブル発電機、ポータブル電源・蓄電池等の購入等経費 | O52: {=INDIRECT("個票１!H34")} -> 0 | P52: {=INDIRECT("個票１!M34")} -> 0 | Q52: {=INDIRECT("個票１!AD22")} | R52: {=INDIRECT("個票１!AI22")} -> 0
B53: 1 | C53: {=INDIRECT("個票１!H7")} -> 0 | D53: {=INDIRECT("個票１!T7")} -> 0 | E53: {=INDIRECT("個票１!A27")} -> (ウ)燃料費等の入居者・利用者の生活環境改善、職員の負担軽減・勤務環境改善に必要となる経費 | F53: {=INDIRECT("個票１!H27")} -> 0 | G53: {=INDIRECT("個票１!M27")} -> 0 | H53: {=INDIRECT("個票１!AD22")} | I53: {=INDIRECT("個票１!AI22")} -> 0 | K53: 1 | L53: {=INDIRECT("個票１!H7")} -> 0 | M53: {=INDIRECT("個票１!T7")} -> 0 | N53: {=INDIRECT("個票１!A35")} -> (ウ)衛生用品、医療用品等の購入等経費 | O53: {=INDIRECT("個票１!H35")} -> 0 | P53: {=INDIRECT("個票１!M35")} -> 0 | Q53: {=INDIRECT("個票１!AD22")} | R53: {=INDIRECT("個票１!AI22")} -> 0
B54: 1 | C54: {=INDIRECT("個票１!H7")} -> 0 | D54: {=INDIRECT("個票１!T7")} -> 0 | E54: {=INDIRECT("個票１!A28")} -> (エ)業務用スポットクーラー（ヒーター）等の居室や浴室等における温度管理、湿度管理に必要な設備・物品等の購入等経費 | F54: {=INDIRECT("個票１!H28")} -> 0 | G54: {=INDIRECT("個票１!M28")} -> 0 | H54: {=INDIRECT("個票１!AD22")} | I54: {=INDIRECT("個票１!AI22")} -> 0 | K54: 1 | L54: {=INDIRECT("個票１!H7")} -> 0 | M54: {=INDIRECT("個票１!T7")} -> 0 | N54: {=INDIRECT("個票１!A36")} -> (エ)簡易浄水器、冷房機、暖房機、簡易トイレ、清潔保持のための用具等の購入等経費 | O54: {=INDIRECT("個票１!H36")} -> 0 | P54: {=INDIRECT("個票１!M36")} -> 0 | Q54: {=INDIRECT("個票１!AD22")} | R54: {=INDIRECT("個票１!AI22")} -> 0
B55: 1 | C55: {=INDIRECT("個票１!H7")} -> 0 | D55: {=INDIRECT("個票１!T7")} -> 0 | E55: {=INDIRECT("個票１!A29")} -> 合計 | F55: {=INDIRECT("個票１!H29")} -> 0 | G55: {=INDIRECT("個票１!M29")} -> 0 | H55: {=INDIRECT("個票１!AD22")} | I55: {=INDIRECT("個票１!AI22")} -> 0 | K55: 1 | L55: {=INDIRECT("個票１!H7")} -> 0 | M55: {=INDIRECT("個票１!T7")} -> 0 | N55: {=INDIRECT("個票１!A37")} -> (オ)その他災害への備えとして必要と認められる経費 | O55: {=INDIRECT("個票１!H37")} -> 0 | P55: {=INDIRECT("個票１!M37")} -> 0 | Q55: {=INDIRECT("個票１!AD22")} | R55: {=INDIRECT("個票１!AI22")} -> 0
...

Sheet 個票（記入例）
A1: （様式第３号）事業所・施設別個票
A3: 障害福祉サービス事業所等に対するサービス継続支援事業に関する交付申請書兼実績報告書 （事業所・施設単位）
A5: 施設概要
A7: 整理番号 | H7: 1900 | O7: 事業所名称 | T7: 広島県障害福祉サービス
A8: 所在地 | D8: 郵便番号 | H8: 都道府県名 | O8: 住所
D9: 7300000 | H9: 広島県 | O9: 広島市中区基町1番地1
A10: 提供サービス | H10: =IFERROR(VLOOKUP(H7,内示額!A:B,2,FALSE),"") -> 居宅介護(延べ訪問回数200回以下/月) | T10: 連絡先 | W10: 電話番号 | AG10: 担当部署名
W11: 0821234567 | AG11: 総務部
A13: 報告にあたっての確認事項
A15: 領収書、レシート等の根拠資料は事業所等において適切に保管している。 | X15: ✔
A16: 支出済の費用について、他の予算制度に基づく、負担又は補助と重複は生じていない。 | X16: ✔
A17: 「支出済額」の欄には、対象経費から消費税相当額を除いた実支出額を記載している。 | X17: ✔
A19: 支出済額
AD21: 内示額 | AI21: 申請額
AD22: =IFERROR(VLOOKUP(H7,内示額!A:C,3,FALSE),"") -> 270 | AG22: 千円 | AI22: =MIN(AD22,ROUNDDOWN((H29+H38)/1000,0)) -> 270 | AL22: 千円
A23: 【（１）障害福祉サービス等を円滑に継続するための対応】
A24: 科目 | H24: 支出済額（円） （税抜き） | M24: 内訳（用途・品目・数量等）
A25: (ア)燃料費、有料道路通行料等の移動に伴い必要となる経費 | H25: 100000 | M25: ガソリン代（５台）令和８年９月１日～10月31日利用分
A26: (イ)ネッククーラー（ヒーター）等の猛暑・雪害対策用品の購入等経費
A27: (ウ)燃料費等の入居者・利用者の生活環境改善、職員の負担軽減・勤務環境改善に必要となる経費
A28: (エ)業務用スポットクーラー（ヒーター）等の居室や浴室等における温度管理、湿度管理に必要な設備・物品等の購入等経費 | H28: 150000 | M28: エアコン１台（単価140,000円） 遮光カーテン２枚（単価5,000円）
A29: 合計 | H29: =SUM(H25:L28) -> 250000
A31: 【（２）災害備蓄等への対応】
A32: 科目 | H32: 支出済額（円） （税抜き） | M32: 内訳（用途・品目・数量等）
A33: (ア)飲料水、食料品等の備蓄物資の購入等経費 | H33: 60000 | M33: 飲料水（２L×６本×50箱）（単価100円）
A34: (イ)ポータブル発電機、ポータブル電源・蓄電池等の購入等経費
A35: (ウ)衛生用品、医療用品等の購入等経費
A36: (エ)簡易浄水器、冷房機、暖房機、簡易トイレ、清潔保持のための用具等の購入等経費
A37: (オ)その他災害への備えとして必要と認められる経費
A38: 合計 | H38: =SUM(H33:L37) -> 60000
A41: （注）申請額は、内示額と支出済額を比較していずれか低い方の額が入力される。

Sheet 様式第1号(申請書兼報告書)
A1: （様式第１号）
A4: 障害福祉サービス事業所等に対するサービス継続支援事業費補助金交付申請書兼実績報告書
AC6: 令和 | AD6: 8 | AF6: 年 | AI6: 月 | AL6: 日
A8: 広島県知事 様
R10: （郵便番号）
R11: （所在地）
R12: （法人名）
R13: （代表者）
C14: 標記について、障害福祉サービス事業所等に関するサービス継続支援事業費補助金交付要綱第７条の規定により、次のとおり関係書類を添えて申請します。
B17: 交付申請
B18: 金 額 ： | J18: =SUM('様式第2号（申請額一覧）'!H5:H24)*1000 -> 0 | S18: 円
B25: （添付書類）
B26: ・事業所・施設別申請額一覧（様式第２号）
B27: ・障害福祉サービス事業所等に対するサービス継続支援事業に関する交付申請書兼実績報告書
B28: （事業所・施設単位）（様式第３号）
B29: ・その他知事の定める書類
T33: 【申請内容に関する問い合わせ先】
U34: ※日中連絡の取りやすい連絡先をご入力ください。
U35: 部署名
U36: 担当者氏名
U37: 連絡先 | Y37: 電話番号
Y38: e-mail

Sheet 様式第2号（申請額一覧）
A1: （様式第２号）事業所・施設別申請額一覧 | D1: ※本表は自動計算の為、入力は不要です。
A3: No. | B3: 事業所・施設名 | C3: 整理番号 | D3: サービス種別 | E3: 電話番号 | F3: 事業所・施設住所 | G3: 法人名 | H3: 申請額 （千円）
A5: =ROW()-4 -> 1 | B5: =IFERROR(INDIRECT("個票"&$A5&"！$t$7"),"") -> 0 | C5: =IFERROR(INDIRECT("個票"&$A5&"！$h$7"),"") -> 0 | D5: =IFERROR(INDIRECT("個票"&$A5&"！$H$10"),"") | E5: =IFERROR(INDIRECT("個票"&$A5&"！$w$11"),"") -> 0 | F5: =IFERROR(INDIRECT("個票"&$A5&"！$H$9")&INDIRECT("個票"&$A5&"！$O$9"),"") -> 広島県 | G5: =IF(H5>0,'様式第1号(申請書兼報告書)'!$W$12,"") | H5: =IFERROR(INDIRECT("個票"&$A5&"！$ai$22"),0) -> 0
A6: =ROW()-4 -> 2 | B6: =IFERROR(INDIRECT("個票"&$A6&"！$t$7"),"") -> 0 | C6: =IFERROR(INDIRECT("個票"&$A6&"！$h$7"),"") -> 0 | D6: =IFERROR(INDIRECT("個票"&$A6&"！$H$10"),"") | E6: =IFERROR(INDIRECT("個票"&$A6&"！$w$11"),"") -> 0 | F6: =IFERROR(INDIRECT("個票"&$A6&"！$H$9")&INDIRECT("個票"&$A6&"！$O$9"),"") -> 広島県 | G6: =IF(H6>0,'様式第1号(申請書兼報告書)'!$W$12,"") | H6: =IFERROR(INDIRECT("個票"&$A6&"！$ai$22"),0) -> 0
A7: =ROW()-4 -> 3 | B7: =IFERROR(INDIRECT("個票"&$A7&"！$t$7"),"") -> 0 | C7: =IFERROR(INDIRECT("個票"&$A7&"！$h$7"),"") -> 0 | D7: =IFERROR(INDIRECT("個票"&$A7&"！$H$10"),"") | E7: =IFERROR(INDIRECT("個票"&$A7&"!$W$11"),"") -> 0 | F7: =IFERROR(INDIRECT("個票"&$A7&"！$ｈ$9")&INDIRECT("個票"&$A7&"！$O$9"),"") -> 広島県 | G7: =IF(H7>0,'様式第1号(申請書兼報告書)'!$W$12,"") | H7: =IFERROR(INDIRECT("個票"&$A7&"！$ai$22"),0) -> 0
A8: =ROW()-4 -> 4 | B8: =IFERROR(INDIRECT("個票"&$A8&"！$t$7"),"") -> 0 | C8: =IFERROR(INDIRECT("個票"&$A8&"！$h$7"),"") -> 0 | D8: =IFERROR(INDIRECT("個票"&$A8&"！$H$10"),"") | E8: =IFERROR(INDIRECT("個票"&$A8&"!$W$11"),"") -> 0 | F8: =IFERROR(INDIRECT("個票"&$A8&"！$H$9")&INDIRECT("個票"&$A8&"！$O$9"),"") -> 広島県 | G8: =IF(H8>0,'様式第1号(申請書兼報告書)'!$W$12,"") | H8: =IFERROR(INDIRECT("個票"&$A8&"！$ai$22"),0) -> 0
A9: =ROW()-4 -> 5 | B9: =IFERROR(INDIRECT("個票"&$A9&"！$t$7"),"") -> 0 | C9: =IFERROR(INDIRECT("個票"&$A9&"！$h$7"),"") -> 0 | D9: =IFERROR(INDIRECT("個票"&$A9&"！$H$10"),"") | E9: =IFERROR(INDIRECT("個票"&$A9&"!$W$11"),"") -> 0 | F9: =IFERROR(INDIRECT("個票"&$A9&"！$H$9")&INDIRECT("個票"&$A9&"！$O$9"),"") -> 広島県 | G9: =IF(H9>0,'様式第1号(申請書兼報告書)'!$W$12,"") | H9: =IFERROR(INDIRECT("個票"&$A9&"！$ai$22"),0) -> 0
A10: =ROW()-4 -> 6 | B10: =IFERROR(INDIRECT("個票"&$A10&"！$t$7"),"") -> 0 | C10: =IFERROR(INDIRECT("個票"&$A10&"！$h$7"),"") -> 0 | D10: =IFERROR(INDIRECT("個票"&$A10&"！$H$10"),"") | E10: =IFERROR(INDIRECT("個票"&$A10&"!$W$11"),"") -> 0 | F10: =IFERROR(INDIRECT("個票"&$A10&"！$H$9")&INDIRECT("個票"&$A10&"！$O$9"),"") -> 広島県 | G10: =IF(H10>0,'様式第1号(申請書兼報告書)'!$W$12,"") | H10: =IFERROR(INDIRECT("個票"&$A10&"！$ai$22"),0) -> 0
A11: =ROW()-4 -> 7 | B11: =IFERROR(INDIRECT("個票"&$A11&"！$t$7"),"") -> 0 | C11: =IFERROR(INDIRECT("個票"&$A11&"！$h$7"),"") -> 0 | D11: =IFERROR(INDIRECT("個票"&$A11&"！$H$10"),"") | E11: =IFERROR(INDIRECT("個票"&$A11&"!$W$11"),"") -> 0 | F11: =IFERROR(INDIRECT("個票"&$A11&"！$H$9")&INDIRECT("個票"&$A11&"！$O$9"),"") -> 広島県 | G11: =IF(H11>0,'様式第1号(申請書兼報告書)'!$W$12,"") | H11: =IFERROR(INDIRECT("個票"&$A11&"！$ai$22"),0) -> 0
A12: =ROW()-4 -> 8 | B12: =IFERROR(INDIRECT("個票"&$A12&"！$t$7"),"") -> 0 | C12: =IFERROR(INDIRECT("個票"&$A12&"！$h$7"),"") -> 0 | D12: =IFERROR(INDIRECT("個票"&$A12&"！$H$10"),"") | E12: =IFERROR(INDIRECT("個票"&$A12&"!$W$11"),"") -> 0 | F12: =IFERROR(INDIRECT("個票"&$A12&"！$H$9")&INDIRECT("個票"&$A12&"！$O$9"),"") -> 広島県 | G12: =IF(H12>0,'様式第1号(申請書兼報告書)'!$W$12,"") | H12: =IFERROR(INDIRECT("個票"&$A12&"！$ai$22"),0) -> 0
A13: =ROW()-4 -> 9 | B13: =IFERROR(INDIRECT("個票"&$A13&"！$t$7"),"") -> 0 | C13: =IFERROR(INDIRECT("個票"&$A13&"！$h$7"),"") -> 0 | D13: =IFERROR(INDIRECT("個票"&$A13&"！$H$10"),"") | E13: =IFERROR(INDIRECT("個票"&$A13&"!$W$11"),"") -> 0 | F13: =IFERROR(INDIRECT("個票"&$A13&"！$H$9")&INDIRECT("個票"&$A13&"！$O$9"),"") -> 広島県 | G13: =IF(H13>0,'様式第1号(申請書兼報告書)'!$W$12,"") | H13: =IFERROR(INDIRECT("個票"&$A13&"！$ai$22"),0) -> 0
A14: =ROW()-4 -> 10 | B14: =IFERROR(INDIRECT("個票"&$A14&"！$t$7"),"") -> 0 | C14: =IFERROR(INDIRECT("個票"&$A14&"！$h$7"),"") -> 0 | D14: =IFERROR(INDIRECT("個票"&$A14&"！$H$10"),"") | E14: =IFERROR(INDIRECT("個票"&$A14&"!$W$11"),"") -> 0 | F14: =IFERROR(INDIRECT("個票"&$A14&"！$H$9")&INDIRECT("個票"&$A14&"！$O$9"),"") -> 広島県 | G14: =IF(H14>0,'様式第1号(申請書兼報告書)'!$W$12,"") | H14: =IFERROR(INDIRECT("個票"&$A14&"！$ai$22"),0) -> 0
A15: =ROW()-4 -> 11 | B15: =IFERROR(INDIRECT("個票"&$A15&"！$t$7"),"") -> 0 | C15: =IFERROR(INDIRECT("個票"&$A15&"！$h$7"),"") -> 0 | D15: =IFERROR(INDIRECT("個票"&$A15&"！$H$10"),"") | E15: =IFERROR(INDIRECT("個票"&$A15&"!$W$11"),"") -> 0 | F15: =IFERROR(INDIRECT("個票"&$A15&"！$H$9")&INDIRECT("個票"&$A15&"！$O$9"),"") -> 広島県 | G15: =IF(H15>0,'様式第1号(申請書兼報告書)'!$W$12,"") | H15: =IFERROR(INDIRECT("個票"&$A15&"！$ai$22"),0) -> 0
A16: =ROW()-4 -> 12 | B16: =IFERROR(INDIRECT("個票"&$A16&"！$t$7"),"") -> 0 | C16: =IFERROR(INDIRECT("個票"&$A16&"！$h$7"),"") -> 0 | D16: =IFERROR(INDIRECT("個票"&$A16&"！$H$10"),"") | E16: =IFERROR(INDIRECT("個票"&$A16&"!$W$11"),"") -> 0 | F16: =IFERROR(INDIRECT("個票"&$A16&"！$H$9")&INDIRECT("個票"&$A16&"！$O$9"),"") -> 広島県 | G16: =IF(H16>0,'様式第1号(申請書兼報告書)'!$W$12,"") | H16: =IFERROR(INDIRECT("個票"&$A16&"！$ai$22"),0) -> 0
A17: =ROW()-4 -> 13 | B17: =IFERROR(INDIRECT("個票"&$A17&"！$t$7"),"") -> 0 | C17: =IFERROR(INDIRECT("個票"&$A17&"！$h$7"),"") -> 0 | D17: =IFERROR(INDIRECT("個票"&$A17&"！$H$10"),"") | E17: =IFERROR(INDIRECT("個票"&$A17&"!$W$11"),"") -> 0 | F17: =IFERROR(INDIRECT("個票"&$A17&"！$H$9")&INDIRECT("個票"&$A17&"！$O$9"),"") -> 広島県 | G17: =IF(H17>0,'様式第1号(申請書兼報告書)'!$W$12,"") | H17: =IFERROR(INDIRECT("個票"&$A17&"！$ai$22"),0) -> 0
A18: =ROW()-4 -> 14 | B18: =IFERROR(INDIRECT("個票"&$A18&"！$t$7"),"") -> 0 | C18: =IFERROR(INDIRECT("個票"&$A18&"！$h$7"),"") -> 0 | D18: =IFERROR(INDIRECT("個票"&$A18&"！$H$10"),"") | E18: =IFERROR(INDIRECT("個票"&$A18&"!$W$11"),"") -> 0 | F18: =IFERROR(INDIRECT("個票"&$A18&"！$H$9")&INDIRECT("個票"&$A18&"！$O$9"),"") -> 広島県 | G18: =IF(H18>0,'様式第1号(申請書兼報告書)'!$W$12,"") | H18: =IFERROR(INDIRECT("個票"&$A18&"！$ai$22"),0) -> 0
A19: =ROW()-4 -> 15 | B19: =IFERROR(INDIRECT("個票"&$A19&"！$t$7"),"") -> 0 | C19: =IFERROR(INDIRECT("個票"&$A19&"！$h$7"),"") -> 0 | D19: =IFERROR(INDIRECT("個票"&$A19&"！$H$10"),"") | E19: =IFERROR(INDIRECT("個票"&$A19&"!$W$11"),"") -> 0 | F19: =IFERROR(INDIRECT("個票"&$A19&"！$H$9")&INDIRECT("個票"&$A19&"！$O$9"),"") -> 広島県 | G19: =IF(H19>0,'様式第1号(申請書兼報告書)'!$W$12,"") | H19: =IFERROR(INDIRECT("個票"&$A19&"！$ai$22"),0) -> 0
... A24: =ROW()-4 -> 20 | B24: =IFERROR(INDIRECT("個票"&$A24&"！$t$7"),"") -> 0 | C24: =IFERROR(INDIRECT("個票"&$A24&"！$h$7"),"") -> 0 | D24: =IFERROR(INDIRECT("個票"&$A24&"！$H$10"),"") | E24: =IFERROR(INDIRECT("個票"&$A24&"!$W$11"),"") -> 0 | F24: =IFERROR(INDIRECT("個票"&$A24&"！$H$9")&INDIRECT("個票"&$A24&"！$O$9"),"") -> 広島県 | G24: =IF(H24>0,'様式第1号(申請書兼報告書)'!$W$12,"") | H24: =IFERROR(INDIRECT("個票"&$A24&"！$ai$22"),0) -> 0
A26: （注）行が不足する場合には、「本申請書の使い方」に従って、必要に応じて行を追加すること。列の挿入は絶対に行わないこと。

Sheet 口座振替依頼書
A1: 口座振替依頼書
U4: 令和8年 | X4: =_xlfn.CONCAT('様式第1号(申請書兼報告書)'!AG6) | Y4: 月 | AA4: =_xlfn.CONCAT('様式第1号(申請書兼報告書)'!AJ6) | AB4: 日
A5: 広島県知事様
C6: 申請者 | I6: （郵便番号） | N6: =_xlfn.CONCAT('様式第1号(申請書兼報告書)'!W10:AK10)
I7: （所在地） | N7: =_xlfn.CONCAT('様式第1号(申請書兼報告書)'!W11:AK11)
I8: （法人名） | N8: =_xlfn.CONCAT('様式第1号(申請書兼報告書)'!W12:AK12)
I9: （代表者） | N9: =_xlfn.CONCAT('様式第1号(申請書兼報告書)'!W13:AK13)
C11: 下記１の支払金は，下記２の預金口座へ振替えてください。
C13: １ 支払金の内容
C15: 広島県介護事業所等及び介護施設等に対するサービス継続支援事業及び障害福祉サービス事業所等に対するサービス継続支援事業に係る補助金の支払
C18: ２ 振込先預金口座
C20: 金融機関名 | O20: 金融機関コード
C21: 支店名 | O21: 支店コード
C22: 種目
C23: 口座番号
C24: 口座名義(半角ｶﾀｶﾅ)
C25: 口座名義(漢字)
C27: 注１ 金融機関名、支店名、種目、口座番号及び口座名義は、預金通帳で 確認して記載してください
C28: 注２ 受領権限を委任される場合は，代理人の氏名及び住所を記載してください。
C30: 代理人 | F30: 氏 名
F31: 住 所

Sheet 個票１
A1: （様式第３号）事業所・施設別個票
A3: 障害福祉サービス事業所等に対するサービス継続支援事業に関する交付申請書兼実績報告書 （事業所・施設単位）
A5: 施設概要
A7: 整理番号 | O7: 事業所名称
A8: 所在地 | D8: 郵便番号 | H8: 都道府県名 | O8: 住所
H9: 広島県
A10: 提供サービス | H10: =IFERROR(VLOOKUP(H7,内示額!A:B,2,FALSE),"") | T10: 連絡先 | W10: 電話番号 | AG10: 担当部署名
A13: 報告にあたっての確認事項
A15: 領収書、レシート等の根拠資料は事業所等において適切に保管している。
A16: 支出済の費用について、他の予算制度に基づく、負担又は補助と重複は生じていない。
A17: 「支出済額」の欄には、対象経費から消費税相当額を除いた実支出額を記載している。
A19: 支出済額
AD21: 内示額 | AI21: 申請額
AD22: =IFERROR(VLOOKUP(H7,内示額!A:C,3,FALSE),"") | AG22: 千円 | AI22: =MIN(AD22,ROUNDDOWN((H29+H38)/1000,0)) -> 0 | AL22: 千円
A23: 【（１）障害福祉サービス等を円滑に継続するための対応】
A24: 科目 | H24: 支出済額（円） （税抜き） | M24: 内訳（用途・品目・数量等）
A25: (ア)燃料費、有料道路通行料等の移動に伴い必要となる経費
A26: (イ)ネッククーラー（ヒーター）等の猛暑・雪害対策用品の購入等経費
A27: (ウ)燃料費等の入居者・利用者の生活環境改善、職員の負担軽減・勤務環境改善に必要となる経費
A28: (エ)業務用スポットクーラー（ヒーター）等の居室や浴室等における温度管理、湿度管理に必要な設備・物品等の購入等経費
A29: 合計 | H29: =SUM(H25:L28) -> 0
A31: 【（２）災害備蓄等への対応】
A32: 科目 | H32: 支出済額（円） （税抜き） | M32: 内訳（用途・品目・数量等）
A33: (ア)飲料水、食料品等の備蓄物資の購入等経費
A34: (イ)ポータブル発電機、ポータブル電源・蓄電池等の購入等経費
A35: (ウ)衛生用品、医療用品等の購入等経費
A36: (エ)簡易浄水器、冷房機、暖房機、簡易トイレ、清潔保持のための用具等の購入等経費
A37: (オ)その他災害への備えとして必要と認められる経費
A38: 合計 | H38: =SUM(H33:L37) -> 0
A41: （注）申請額は、内示額と支出済額を比較していずれか低い方の額が入力される。

Sheet 個票2
A1: （様式第３号）事業所・施設別個票
A3: 障害福祉サービス事業所等に対するサービス継続支援事業に関する交付申請書兼実績報告書 （事業所・施設単位）
A5: 施設概要
A7: 整理番号 | O7: 事業所名称
A8: 所在地 | D8: 郵便番号 | H8: 都道府県名 | O8: 住所
H9: 広島県
A10: 提供サービス | H10: =IFERROR(VLOOKUP(H7,内示額!A:B,2,FALSE),"") | T10: 連絡先 | W10: 電話番号 | AG10: 担当部署名
A13: 報告にあたっての確認事項
A15: 領収書、レシート等の根拠資料は事業所等において適切に保管している。
A16: 支出済の費用について、他の予算制度に基づく、負担又は補助と重複は生じていない。
A17: 「支出済額」の欄には、対象経費から消費税相当額を除いた実支出額を記載している。
A19: 支出済額
AD21: 内示額 | AI21: 申請額
AD22: =IFERROR(VLOOKUP(H7,内示額!A:C,3,FALSE),"") | AG22: 千円 | AI22: =MIN(AD22,ROUNDDOWN((H29+H38)/1000,0)) -> 0 | AL22: 千円
A23: 【（１）障害福祉サービス等を円滑に継続するための対応】
A24: 科目 | H24: 支出済額（円） （税抜き） | M24: 内訳（用途・品目・数量等）
A25: (ア)燃料費、有料道路通行料等の移動に伴い必要となる経費
A26: (イ)ネッククーラー（ヒーター）等の猛暑・雪害対策用品の購入等経費
A27: (ウ)燃料費等の入居者・利用者の生活環境改善、職員の負担軽減・勤務環境改善に必要となる経費
A28: (エ)業務用スポットクーラー（ヒーター）等の居室や浴室等における温度管理、湿度管理に必要な設備・物品等の購入等経費
A29: 合計 | H29: =SUM(H25:L28) -> 0
A31: 【（２）災害備蓄等への対応】
A32: 科目 | H32: 支出済額（円） （税抜き） | M32: 内訳（用途・品目・数量等）
A33: (ア)飲料水、食料品等の備蓄物資の購入等経費
A34: (イ)ポータブル発電機、ポータブル電源・蓄電池等の購入等経費
A35: (ウ)衛生用品、医療用品等の購入等経費
A36: (エ)簡易浄水器、冷房機、暖房機、簡易トイレ、清潔保持のための用具等の購入等経費
A37: (オ)その他災害への備えとして必要と認められる経費
A38: 合計 | H38: =SUM(H33:L37) -> 0
A41: （注）申請額は、内示額と支出済額を比較していずれか低い方の額が入力される。

Sheet 個票3
A1: （様式第３号）事業所・施設別個票
A3: 障害福祉サービス事業所等に対するサービス継続支援事業に関する交付申請書兼実績報告書 （事業所・施設単位）
A5: 施設概要
A7: 整理番号 | O7: 事業所名称
A8: 所在地 | D8: 郵便番号 | H8: 都道府県名 | O8: 住所
H9: 広島県
A10: 提供サービス | H10: =IFERROR(VLOOKUP(H7,内示額!A:B,2,FALSE),"") | T10: 連絡先 | W10: 電話番号 | AG10: 担当部署名
A13: 報告にあたっての確認事項
A15: 領収書、レシート等の根拠資料は事業所等において適切に保管している。
A16: 支出済の費用について、他の予算制度に基づく、負担又は補助と重複は生じていない。
A17: 「支出済額」の欄には、対象経費から消費税相当額を除いた実支出額を記載している。
A19: 支出済額
AD21: 内示額 | AI21: 申請額
AD22: =IFERROR(VLOOKUP(H7,内示額!A:C,3,FALSE),"") | AG22: 千円 | AI22: =MIN(AD22,ROUNDDOWN((H29+H38)/1000,0)) -> 0 | AL22: 千円
A23: 【（１）障害福祉サービス等を円滑に継続するための対応】
A24: 科目 | H24: 支出済額（円） （税抜き） | M24: 内訳（用途・品目・数量等）
A25: (ア)燃料費、有料道路通行料等の移動に伴い必要となる経費
A26: (イ)ネッククーラー（ヒーター）等の猛暑・雪害対策用品の購入等経費
A27: (ウ)燃料費等の入居者・利用者の生活環境改善、職員の負担軽減・勤務環境改善に必要となる経費
A28: (エ)業務用スポットクーラー（ヒーター）等の居室や浴室等における温度管理、湿度管理に必要な設備・物品等の購入等経費
A29: 合計 | H29: =SUM(H25:L28) -> 0
A31: 【（２）災害備蓄等への対応】
A32: 科目 | H32: 支出済額（円） （税抜き） | M32: 内訳（用途・品目・数量等）
A33: (ア)飲料水、食料品等の備蓄物資の購入等経費
A34: (イ)ポータブル発電機、ポータブル電源・蓄電池等の購入等経費
A35: (ウ)衛生用品、医療用品等の購入等経費
A36: (エ)簡易浄水器、冷房機、暖房機、簡易トイレ、清潔保持のための用具等の購入等経費
A37: (オ)その他災害への備えとして必要と認められる経費
A38: 合計 | H38: =SUM(H33:L37) -> 0
A41: （注）申請額は、内示額と支出済額を比較していずれか低い方の額が入力される。

Sheet 個票4
A1: （様式第３号）事業所・施設別個票
A3: 障害福祉サービス事業所等に対するサービス継続支援事業に関する交付申請書兼実績報告書 （事業所・施設単位）
A5: 施設概要
A7: 整理番号 | O7: 事業所名称
A8: 所在地 | D8: 郵便番号 | H8: 都道府県名 | O8: 住所
H9: 広島県
A10: 提供サービス | H10: =IFERROR(VLOOKUP(H7,内示額!A:B,2,FALSE),"") | T10: 連絡先 | W10: 電話番号 | AG10: 担当部署名
A13: 報告にあたっての確認事項
A15: 領収書、レシート等の根拠資料は事業所等において適切に保管している。
A16: 支出済の費用について、他の予算制度に基づく、負担又は補助と重複は生じていない。
A17: 「支出済額」の欄には、対象経費から消費税相当額を除いた実支出額を記載している。
A19: 支出済額
AD21: 内示額 | AI21: 申請額
AD22: =IFERROR(VLOOKUP(H7,内示額!A:C,3,FALSE),"") | AG22: 千円 | AI22: =MIN(AD22,ROUNDDOWN((H29+H38)/1000,0)) -> 0 | AL22: 千円
A23: 【（１）障害福祉サービス等を円滑に継続するための対応】
A24: 科目 | H24: 支出済額（円） （税抜き） | M24: 内訳（用途・品目・数量等）
A25: (ア)燃料費、有料道路通行料等の移動に伴い必要となる経費
A26: (イ)ネッククーラー（ヒーター）等の猛暑・雪害対策用品の購入等経費
A27: (ウ)燃料費等の入居者・利用者の生活環境改善、職員の負担軽減・勤務環境改善に必要となる経費
A28: (エ)業務用スポットクーラー（ヒーター）等の居室や浴室等における温度管理、湿度管理に必要な設備・物品等の購入等経費
A29: 合計 | H29: =SUM(H25:L28) -> 0
A31: 【（２）災害備蓄等への対応】
A32: 科目 | H32: 支出済額（円） （税抜き） | M32: 内訳（用途・品目・数量等）
A33: (ア)飲料水、食料品等の備蓄物資の購入等経費
A34: (イ)ポータブル発電機、ポータブル電源・蓄電池等の購入等経費
A35: (ウ)衛生用品、医療用品等の購入等経費
A36: (エ)簡易浄水器、冷房機、暖房機、簡易トイレ、清潔保持のための用具等の購入等経費
A37: (オ)その他災害への備えとして必要と認められる経費
A38: 合計 | H38: =SUM(H33:L37) -> 0
A41: （注）申請額は、内示額と支出済額を比較していずれか低い方の額が入力される。

Sheet 個票5
A1: （様式第３号）事業所・施設別個票
A3: 障害福祉サービス事業所等に対するサービス継続支援事業に関する交付申請書兼実績報告書 （事業所・施設単位）
A5: 施設概要
A7: 整理番号 | O7: 事業所名称
A8: 所在地 | D8: 郵便番号 | H8: 都道府県名 | O8: 住所
H9: 広島県
A10: 提供サービス | H10: =IFERROR(VLOOKUP(H7,内示額!A:B,2,FALSE),"") | T10: 連絡先 | W10: 電話番号 | AG10: 担当部署名
A13: 報告にあたっての確認事項
A15: 領収書、レシート等の根拠資料は事業所等において適切に保管している。
A16: 支出済の費用について、他の予算制度に基づく、負担又は補助と重複は生じていない。
A17: 「支出済額」の欄には、対象経費から消費税相当額を除いた実支出額を記載している。
A19: 支出済額
AD21: 内示額 | AI21: 申請額
AD22: =IFERROR(VLOOKUP(H7,内示額!A:C,3,FALSE),"") | AG22: 千円 | AI22: =MIN(AD22,ROUNDDOWN((H29+H38)/1000,0)) -> 0 | AL22: 千円
A23: 【（１）障害福祉サービス等を円滑に継続するための対応】
A24: 科目 | H24: 支出済額（円） （税抜き） | M24: 内訳（用途・品目・数量等）
A25: (ア)燃料費、有料道路通行料等の移動に伴い必要となる経費
A26: (イ)ネッククーラー（ヒーター）等の猛暑・雪害対策用品の購入等経費
A27: (ウ)燃料費等の入居者・利用者の生活環境改善、職員の負担軽減・勤務環境改善に必要となる経費
A28: (エ)業務用スポットクーラー（ヒーター）等の居室や浴室等における温度管理、湿度管理に必要な設備・物品等の購入等経費
A29: 合計 | H29: =SUM(H25:L28) -> 0
A31: 【（２）災害備蓄等への対応】
A32: 科目 | H32: 支出済額（円） （税抜き） | M32: 内訳（用途・品目・数量等）
A33: (ア)飲料水、食料品等の備蓄物資の購入等経費
A34: (イ)ポータブル発電機、ポータブル電源・蓄電池等の購入等経費
A35: (ウ)衛生用品、医療用品等の購入等経費
A36: (エ)簡易浄水器、冷房機、暖房機、簡易トイレ、清潔保持のための用具等の購入等経費
A37: (オ)その他災害への備えとして必要と認められる経費
A38: 合計 | H38: =SUM(H33:L37) -> 0
A41: （注）申請額は、内示額と支出済額を比較していずれか低い方の額が入力される。

Sheet 個票6
A1: （様式第３号）事業所・施設別個票
A3: 障害福祉サービス事業所等に対するサービス継続支援事業に関する交付申請書兼実績報告書 （事業所・施設単位）
A5: 施設概要
A7: 整理番号 | O7: 事業所名称
A8: 所在地 | D8: 郵便番号 | H8: 都道府県名 | O8: 住所
H9: 広島県
A10: 提供サービス | H10: =IFERROR(VLOOKUP(H7,内示額!A:B,2,FALSE),"") | T10: 連絡先 | W10: 電話番号 | AG10: 担当部署名
A13: 報告にあたっての確認事項
A15: 領収書、レシート等の根拠資料は事業所等において適切に保管している。
A16: 支出済の費用について、他の予算制度に基づく、負担又は補助と重複は生じていない。
A17: 「支出済額」の欄には、対象経費から消費税相当額を除いた実支出額を記載している。
A19: 支出済額
AD21: 内示額 | AI21: 申請額
AD22: =IFERROR(VLOOKUP(H7,内示額!A:C,3,FALSE),"") | AG22: 千円 | AI22: =MIN(AD22,ROUNDDOWN((H29+H38)/1000,0)) -> 0 | AL22: 千円
A23: 【（１）障害福祉サービス等を円滑に継続するための対応】
A24: 科目 | H24: 支出済額（円） （税抜き） | M24: 内訳（用途・品目・数量等）
A25: (ア)燃料費、有料道路通行料等の移動に伴い必要となる経費
A26: (イ)ネッククーラー（ヒーター）等の猛暑・雪害対策用品の購入等経費
A27: (ウ)燃料費等の入居者・利用者の生活環境改善、職員の負担軽減・勤務環境改善に必要となる経費
A28: (エ)業務用スポットクーラー（ヒーター）等の居室や浴室等における温度管理、湿度管理に必要な設備・物品等の購入等経費
A29: 合計 | H29: =SUM(H25:L28) -> 0
A31: 【（２）災害備蓄等への対応】
A32: 科目 | H32: 支出済額（円） （税抜き） | M32: 内訳（用途・品目・数量等）
A33: (ア)飲料水、食料品等の備蓄物資の購入等経費
A34: (イ)ポータブル発電機、ポータブル電源・蓄電池等の購入等経費
A35: (ウ)衛生用品、医療用品等の購入等経費
A36: (エ)簡易浄水器、冷房機、暖房機、簡易トイレ、清潔保持のための用具等の購入等経費
A37: (オ)その他災害への備えとして必要と認められる経費
A38: 合計 | H38: =SUM(H33:L37) -> 0
A41: （注）申請額は、内示額と支出済額を比較していずれか低い方の額が入力される。

Sheet 個票7
A1: （様式第３号）事業所・施設別個票
A3: 障害福祉サービス事業所等に対するサービス継続支援事業に関する交付申請書兼実績報告書 （事業所・施設単位）
A5: 施設概要
A7: 整理番号 | O7: 事業所名称
A8: 所在地 | D8: 郵便番号 | H8: 都道府県名 | O8: 住所
H9: 広島県
A10: 提供サービス | H10: =IFERROR(VLOOKUP(H7,内示額!A:B,2,FALSE),"") | T10: 連絡先 | W10: 電話番号 | AG10: 担当部署名
A13: 報告にあたっての確認事項
A15: 領収書、レシート等の根拠資料は事業所等において適切に保管している。
A16: 支出済の費用について、他の予算制度に基づく、負担又は補助と重複は生じていない。
A17: 「支出済額」の欄には、対象経費から消費税相当額を除いた実支出額を記載している。
A19: 支出済額
AD21: 内示額 | AI21: 申請額
AD22: =IFERROR(VLOOKUP(H7,内示額!A:C,3,FALSE),"") | AG22: 千円 | AI22: =MIN(AD22,ROUNDDOWN((H29+H38)/1000,0)) -> 0 | AL22: 千円
A23: 【（１）障害福祉サービス等を円滑に継続するための対応】
A24: 科目 | H24: 支出済額（円） （税抜き） | M24: 内訳（用途・品目・数量等）
A25: (ア)燃料費、有料道路通行料等の移動に伴い必要となる経費
A26: (イ)ネッククーラー（ヒーター）等の猛暑・雪害対策用品の購入等経費
A27: (ウ)燃料費等の入居者・利用者の生活環境改善、職員の負担軽減・勤務環境改善に必要となる経費
A28: (エ)業務用スポットクーラー（ヒーター）等の居室や浴室等における温度管理、湿度管理に必要な設備・物品等の購入等経費
A29: 合計 | H29: =SUM(H25:L28) -> 0
A31: 【（２）災害備蓄等への対応】
A32: 科目 | H32: 支出済額（円） （税抜き） | M32: 内訳（用途・品目・数量等）
A33: (ア)飲料水、食料品等の備蓄物資の購入等経費
A34: (イ)ポータブル発電機、ポータブル電源・蓄電池等の購入等経費
A35: (ウ)衛生用品、医療用品等の購入等経費
A36: (エ)簡易浄水器、冷房機、暖房機、簡易トイレ、清潔保持のための用具等の購入等経費
A37: (オ)その他災害への備えとして必要と認められる経費
A38: 合計 | H38: =SUM(H33:L37) -> 0
A41: （注）申請額は、内示額と支出済額を比較していずれか低い方の額が入力される。

Sheet 個票8
A1: （様式第３号）事業所・施設別個票
A3: 障害福祉サービス事業所等に対するサービス継続支援事業に関する交付申請書兼実績報告書 （事業所・施設単位）
A5: 施設概要
A7: 整理番号 | O7: 事業所名称
A8: 所在地 | D8: 郵便番号 | H8: 都道府県名 | O8: 住所
H9: 広島県
A10: 提供サービス | H10: =IFERROR(VLOOKUP(H7,内示額!A:B,2,FALSE),"") | T10: 連絡先 | W10: 電話番号 | AG10: 担当部署名
A13: 報告にあたっての確認事項
A15: 領収書、レシート等の根拠資料は事業所等において適切に保管している。
A16: 支出済の費用について、他の予算制度に基づく、負担又は補助と重複は生じていない。
A17: 「支出済額」の欄には、対象経費から消費税相当額を除いた実支出額を記載している。
A19: 支出済額
AD21: 内示額 | AI21: 申請額
AD22: =IFERROR(VLOOKUP(H7,内示額!A:C,3,FALSE),"") | AG22: 千円 | AI22: =MIN(AD22,ROUNDDOWN((H29+H38)/1000,0)) -> 0 | AL22: 千円
A23: 【（１）障害福祉サービス等を円滑に継続するための対応】
A24: 科目 | H24: 支出済額（円） （税抜き） | M24: 内訳（用途・品目・数量等）
A25: (ア)燃料費、有料道路通行料等の移動に伴い必要となる経費
A26: (イ)ネッククーラー（ヒーター）等の猛暑・雪害対策用品の購入等経費
A27: (ウ)燃料費等の入居者・利用者の生活環境改善、職員の負担軽減・勤務環境改善に必要となる経費
A28: (エ)業務用スポットクーラー（ヒーター）等の居室や浴室等における温度管理、湿度管理に必要な設備・物品等の購入等経費
A29: 合計 | H29: =SUM(H25:L28) -> 0
A31: 【（２）災害備蓄等への対応】
A32: 科目 | H32: 支出済額（円） （税抜き） | M32: 内訳（用途・品目・数量等）
A33: (ア)飲料水、食料品等の備蓄物資の購入等経費
A34: (イ)ポータブル発電機、ポータブル電源・蓄電池等の購入等経費
A35: (ウ)衛生用品、医療用品等の購入等経費
A36: (エ)簡易浄水器、冷房機、暖房機、簡易トイレ、清潔保持のための用具等の購入等経費
A37: (オ)その他災害への備えとして必要と認められる経費
A38: 合計 | H38: =SUM(H33:L37) -> 0
A41: （注）申請額は、内示額と支出済額を比較していずれか低い方の額が入力される。

Sheet 個票9
A1: （様式第３号）事業所・施設別個票
A3: 障害福祉サービス事業所等に対するサービス継続支援事業に関する交付申請書兼実績報告書 （事業所・施設単位）
A5: 施設概要
A7: 整理番号 | O7: 事業所名称
A8: 所在地 | D8: 郵便番号 | H8: 都道府県名 | O8: 住所
H9: 広島県
A10: 提供サービス | H10: =IFERROR(VLOOKUP(H7,内示額!A:B,2,FALSE),"") | T10: 連絡先 | W10: 電話番号 | AG10: 担当部署名
A13: 報告にあたっての確認事項
A15: 領収書、レシート等の根拠資料は事業所等において適切に保管している。
A16: 支出済の費用について、他の予算制度に基づく、負担又は補助と重複は生じていない。
A17: 「支出済額」の欄には、対象経費から消費税相当額を除いた実支出額を記載している。
A19: 支出済額
AD21: 内示額 | AI21: 申請額
AD22: =IFERROR(VLOOKUP(H7,内示額!A:C,3,FALSE),"") | AG22: 千円 | AI22: =MIN(AD22,ROUNDDOWN((H29+H38)/1000,0)) -> 0 | AL22: 千円
A23: 【（１）障害福祉サービス等を円滑に継続するための対応】
A24: 科目 | H24: 支出済額（円） （税抜き） | M24: 内訳（用途・品目・数量等）
A25: (ア)燃料費、有料道路通行料等の移動に伴い必要となる経費
A26: (イ)ネッククーラー（ヒーター）等の猛暑・雪害対策用品の購入等経費
A27: (ウ)燃料費等の入居者・利用者の生活環境改善、職員の負担軽減・勤務環境改善に必要となる経費
A28: (エ)業務用スポットクーラー（ヒーター）等の居室や浴室等における温度管理、湿度管理に必要な設備・物品等の購入等経費
A29: 合計 | H29: =SUM(H25:L28) -> 0
A31: 【（２）災害備蓄等への対応】
A32: 科目 | H32: 支出済額（円） （税抜き） | M32: 内訳（用途・品目・数量等）
A33: (ア)飲料水、食料品等の備蓄物資の購入等経費
A34: (イ)ポータブル発電機、ポータブル電源・蓄電池等の購入等経費
A35: (ウ)衛生用品、医療用品等の購入等経費
A36: (エ)簡易浄水器、冷房機、暖房機、簡易トイレ、清潔保持のための用具等の購入等経費
A37: (オ)その他災害への備えとして必要と認められる経費
A38: 合計 | H38: =SUM(H33:L37) -> 0
A41: （注）申請額は、内示額と支出済額を比較していずれか低い方の額が入力される。

Sheet 個票10
A1: （様式第３号）事業所・施設別個票
A3: 障害福祉サービス事業所等に対するサービス継続支援事業に関する交付申請書兼実績報告書 （事業所・施設単位）
A5: 施設概要
A7: 整理番号 | O7: 事業所名称
A8: 所在地 | D8: 郵便番号 | H8: 都道府県名 | O8: 住所
H9: 広島県
A10: 提供サービス | H10: =IFERROR(VLOOKUP(H7,内示額!A:B,2,FALSE),"") | T10: 連絡先 | W10: 電話番号 | AG10: 担当部署名
A13: 報告にあたっての確認事項
A15: 領収書、レシート等の根拠資料は事業所等において適切に保管している。
A16: 支出済の費用について、他の予算制度に基づく、負担又は補助と重複は生じていない。
A17: 「支出済額」の欄には、対象経費から消費税相当額を除いた実支出額を記載している。
A19: 支出済額
AD21: 内示額 | AI21: 申請額
AD22: =IFERROR(VLOOKUP(H7,内示額!A:C,3,FALSE),"") | AG22: 千円 | AI22: =MIN(AD22,ROUNDDOWN((H29+H38)/1000,0)) -> 0 | AL22: 千円
A23: 【（１）障害福祉サービス等を円滑に継続するための対応】
A24: 科目 | H24: 支出済額（円） （税抜き） | M24: 内訳（用途・品目・数量等）
A25: (ア)燃料費、有料道路通行料等の移動に伴い必要となる経費
A26: (イ)ネッククーラー（ヒーター）等の猛暑・雪害対策用品の購入等経費
A27: (ウ)燃料費等の入居者・利用者の生活環境改善、職員の負担軽減・勤務環境改善に必要となる経費
A28: (エ)業務用スポットクーラー（ヒーター）等の居室や浴室等における温度管理、湿度管理に必要な設備・物品等の購入等経費
A29: 合計 | H29: =SUM(H25:L28) -> 0
A31: 【（２）災害備蓄等への対応】
A32: 科目 | H32: 支出済額（円） （税抜き） | M32: 内訳（用途・品目・数量等）
A33: (ア)飲料水、食料品等の備蓄物資の購入等経費
A34: (イ)ポータブル発電機、ポータブル電源・蓄電池等の購入等経費
A35: (ウ)衛生用品、医療用品等の購入等経費
A36: (エ)簡易浄水器、冷房機、暖房機、簡易トイレ、清潔保持のための用具等の購入等経費
A37: (オ)その他災害への備えとして必要と認められる経費
A38: 合計 | H38: =SUM(H33:L37) -> 0
A41: （注）申請額は、内示額と支出済額を比較していずれか低い方の額が入力される。

Sheet 個票11
A1: （様式第３号）事業所・施設別個票
A3: 障害福祉サービス事業所等に対するサービス継続支援事業に関する交付申請書兼実績報告書 （事業所・施設単位）
A5: 施設概要
A7: 整理番号 | O7: 事業所名称
A8: 所在地 | D8: 郵便番号 | H8: 都道府県名 | O8: 住所
H9: 広島県
A10: 提供サービス | H10: =IFERROR(VLOOKUP(H7,内示額!A:B,2,FALSE),"") | T10: 連絡先 | W10: 電話番号 | AG10: 担当部署名
A13: 報告にあたっての確認事項
A15: 領収書、レシート等の根拠資料は事業所等において適切に保管している。
A16: 支出済の費用について、他の予算制度に基づく、負担又は補助と重複は生じていない。
A17: 「支出済額」の欄には、対象経費から消費税相当額を除いた実支出額を記載している。
A19: 支出済額
AD21: 内示額 | AI21: 申請額
AD22: =IFERROR(VLOOKUP(H7,内示額!A:C,3,FALSE),"") | AG22: 千円 | AI22: =MIN(AD22,ROUNDDOWN((H29+H38)/1000,0)) -> 0 | AL22: 千円
A23: 【（１）障害福祉サービス等を円滑に継続するための対応】
A24: 科目 | H24: 支出済額（円） （税抜き） | M24: 内訳（用途・品目・数量等）
A25: (ア)燃料費、有料道路通行料等の移動に伴い必要となる経費
A26: (イ)ネッククーラー（ヒーター）等の猛暑・雪害対策用品の購入等経費
A27: (ウ)燃料費等の入居者・利用者の生活環境改善、職員の負担軽減・勤務環境改善に必要となる経費
A28: (エ)業務用スポットクーラー（ヒーター）等の居室や浴室等における温度管理、湿度管理に必要な設備・物品等の購入等経費
A29: 合計 | H29: =SUM(H25:L28) -> 0
A31: 【（２）災害備蓄等への対応】
A32: 科目 | H32: 支出済額（円） （税抜き） | M32: 内訳（用途・品目・数量等）
A33: (ア)飲料水、食料品等の備蓄物資の購入等経費
A34: (イ)ポータブル発電機、ポータブル電源・蓄電池等の購入等経費
A35: (ウ)衛生用品、医療用品等の購入等経費
A36: (エ)簡易浄水器、冷房機、暖房機、簡易トイレ、清潔保持のための用具等の購入等経費
A37: (オ)その他災害への備えとして必要と認められる経費
A38: 合計 | H38: =SUM(H33:L37) -> 0
A41: （注）申請額は、内示額と支出済額を比較していずれか低い方の額が入力される。

Sheet 個票12
A1: （様式第３号）事業所・施設別個票
A3: 障害福祉サービス事業所等に対するサービス継続支援事業に関する交付申請書兼実績報告書 （事業所・施設単位）
A5: 施設概要
A7: 整理番号 | O7: 事業所名称
A8: 所在地 | D8: 郵便番号 | H8: 都道府県名 | O8: 住所
H9: 広島県
A10: 提供サービス | H10: =IFERROR(VLOOKUP(H7,内示額!A:B,2,FALSE),"") | T10: 連絡先 | W10: 電話番号 | AG10: 担当部署名
A13: 報告にあたっての確認事項
A15: 領収書、レシート等の根拠資料は事業所等において適切に保管している。
A16: 支出済の費用について、他の予算制度に基づく、負担又は補助と重複は生じていない。
A17: 「支出済額」の欄には、対象経費から消費税相当額を除いた実支出額を記載している。
A19: 支出済額
AD21: 内示額 | AI21: 申請額
AD22: =IFERROR(VLOOKUP(H7,内示額!A:C,3,FALSE),"") | AG22: 千円 | AI22: =MIN(AD22,ROUNDDOWN((H29+H38)/1000,0)) -> 0 | AL22: 千円
A23: 【（１）障害福祉サービス等を円滑に継続するための対応】
A24: 科目 | H24: 支出済額（円） （税抜き） | M24: 内訳（用途・品目・数量等）
A25: (ア)燃料費、有料道路通行料等の移動に伴い必要となる経費
A26: (イ)ネッククーラー（ヒーター）等の猛暑・雪害対策用品の購入等経費
A27: (ウ)燃料費等の入居者・利用者の生活環境改善、職員の負担軽減・勤務環境改善に必要となる経費
A28: (エ)業務用スポットクーラー（ヒーター）等の居室や浴室等における温度管理、湿度管理に必要な設備・物品等の購入等経費
A29: 合計 | H29: =SUM(H25:L28) -> 0
A31: 【（２）災害備蓄等への対応】
A32: 科目 | H32: 支出済額（円） （税抜き） | M32: 内訳（用途・品目・数量等）
A33: (ア)飲料水、食料品等の備蓄物資の購入等経費
A34: (イ)ポータブル発電機、ポータブル電源・蓄電池等の購入等経費
A35: (ウ)衛生用品、医療用品等の購入等経費
A36: (エ)簡易浄水器、冷房機、暖房機、簡易トイレ、清潔保持のための用具等の購入等経費
A37: (オ)その他災害への備えとして必要と認められる経費
A38: 合計 | H38: =SUM(H33:L37) -> 0
A41: （注）申請額は、内示額と支出済額を比較していずれか低い方の額が入力される。

Sheet 個票13
A1: （様式第３号）事業所・施設別個票
A3: 障害福祉サービス事業所等に対するサービス継続支援事業に関する交付申請書兼実績報告書 （事業所・施設単位）
A5: 施設概要
A7: 整理番号 | O7: 事業所名称
A8: 所在地 | D8: 郵便番号 | H8: 都道府県名 | O8: 住所
H9: 広島県
A10: 提供サービス | H10: =IFERROR(VLOOKUP(H7,内示額!A:B,2,FALSE),"") | T10: 連絡先 | W10: 電話番号 | AG10: 担当部署名
A13: 報告にあたっての確認事項
A15: 領収書、レシート等の根拠資料は事業所等において適切に保管している。
A16: 支出済の費用について、他の予算制度に基づく、負担又は補助と重複は生じていない。
A17: 「支出済額」の欄には、対象経費から消費税相当額を除いた実支出額を記載している。
A19: 支出済額
AD21: 内示額 | AI21: 申請額
AD22: =IFERROR(VLOOKUP(H7,内示額!A:C,3,FALSE),"") | AG22: 千円 | AI22: =MIN(AD22,ROUNDDOWN((H29+H38)/1000,0)) -> 0 | AL22: 千円
A23: 【（１）障害福祉サービス等を円滑に継続するための対応】
A24: 科目 | H24: 支出済額（円） （税抜き） | M24: 内訳（用途・品目・数量等）
A25: (ア)燃料費、有料道路通行料等の移動に伴い必要となる経費
A26: (イ)ネッククーラー（ヒーター）等の猛暑・雪害対策用品の購入等経費
A27: (ウ)燃料費等の入居者・利用者の生活環境改善、職員の負担軽減・勤務環境改善に必要となる経費
A28: (エ)業務用スポットクーラー（ヒーター）等の居室や浴室等における温度管理、湿度管理に必要な設備・物品等の購入等経費
A29: 合計 | H29: =SUM(H25:L28) -> 0
A31: 【（２）災害備蓄等への対応】
A32: 科目 | H32: 支出済額（円） （税抜き） | M32: 内訳（用途・品目・数量等）
A33: (ア)飲料水、食料品等の備蓄物資の購入等経費
A34: (イ)ポータブル発電機、ポータブル電源・蓄電池等の購入等経費
A35: (ウ)衛生用品、医療用品等の購入等経費
A36: (エ)簡易浄水器、冷房機、暖房機、簡易トイレ、清潔保持のための用具等の購入等経費
A37: (オ)その他災害への備えとして必要と認められる経費
A38: 合計 | H38: =SUM(H33:L37) -> 0
A41: （注）申請額は、内示額と支出済額を比較していずれか低い方の額が入力される。

Sheet 個票14
A1: （様式第３号）事業所・施設別個票
A3: 障害福祉サービス事業所等に対するサービス継続支援事業に関する交付申請書兼実績報告書 （事業所・施設単位）
A5: 施設概要
A7: 整理番号 | O7: 事業所名称
A8: 所在地 | D8: 郵便番号 | H8: 都道府県名 | O8: 住所
H9: 広島県
A10: 提供サービス | H10: =IFERROR(VLOOKUP(H7,内示額!A:B,2,FALSE),"") | T10: 連絡先 | W10: 電話番号 | AG10: 担当部署名
A13: 報告にあたっての確認事項
A15: 領収書、レシート等の根拠資料は事業所等において適切に保管している。
A16: 支出済の費用について、他の予算制度に基づく、負担又は補助と重複は生じていない。
A17: 「支出済額」の欄には、対象経費から消費税相当額を除いた実支出額を記載している。
A19: 支出済額
AD21: 内示額 | AI21: 申請額
AD22: =IFERROR(VLOOKUP(H7,内示額!A:C,3,FALSE),"") | AG22: 千円 | AI22: =MIN(AD22,ROUNDDOWN((H29+H38)/1000,0)) -> 0 | AL22: 千円
A23: 【（１）障害福祉サービス等を円滑に継続するための対応】
A24: 科目 | H24: 支出済額（円） （税抜き） | M24: 内訳（用途・品目・数量等）
A25: (ア)燃料費、有料道路通行料等の移動に伴い必要となる経費
A26: (イ)ネッククーラー（ヒーター）等の猛暑・雪害対策用品の購入等経費
A27: (ウ)燃料費等の入居者・利用者の生活環境改善、職員の負担軽減・勤務環境改善に必要となる経費
A28: (エ)業務用スポットクーラー（ヒーター）等の居室や浴室等における温度管理、湿度管理に必要な設備・物品等の購入等経費
A29: 合計 | H29: =SUM(H25:L28) -> 0
A31: 【（２）災害備蓄等への対応】
A32: 科目 | H32: 支出済額（円） （税抜き） | M32: 内訳（用途・品目・数量等）
A33: (ア)飲料水、食料品等の備蓄物資の購入等経費
A34: (イ)ポータブル発電機、ポータブル電源・蓄電池等の購入等経費
A35: (ウ)衛生用品、医療用品等の購入等経費
A36: (エ)簡易浄水器、冷房機、暖房機、簡易トイレ、清潔保持のための用具等の購入等経費
A37: (オ)その他災害への備えとして必要と認められる経費
A38: 合計 | H38: =SUM(H33:L37) -> 0
A41: （注）申請額は、内示額と支出済額を比較していずれか低い方の額が入力される。

Sheet 個票15
A1: （様式第３号）事業所・施設別個票
A3: 障害福祉サービス事業所等に対するサービス継続支援事業に関する交付申請書兼実績報告書 （事業所・施設単位）
A5: 施設概要
A7: 整理番号 | O7: 事業所名称
A8: 所在地 | D8: 郵便番号 | H8: 都道府県名 | O8: 住所
H9: 広島県
A10: 提供サービス | H10: =IFERROR(VLOOKUP(H7,内示額!A:B,2,FALSE),"") | T10: 連絡先 | W10: 電話番号 | AG10: 担当部署名
A13: 報告にあたっての確認事項
A15: 領収書、レシート等の根拠資料は事業所等において適切に保管している。
A16: 支出済の費用について、他の予算制度に基づく、負担又は補助と重複は生じていない。
A17: 「支出済額」の欄には、対象経費から消費税相当額を除いた実支出額を記載している。
A19: 支出済額
AD21: 内示額 | AI21: 申請額
AD22: =IFERROR(VLOOKUP(H7,内示額!A:C,3,FALSE),"") | AG22: 千円 | AI22: =MIN(AD22,ROUNDDOWN((H29+H38)/1000,0)) -> 0 | AL22: 千円
A23: 【（１）障害福祉サービス等を円滑に継続するための対応】
A24: 科目 | H24: 支出済額（円） （税抜き） | M24: 内訳（用途・品目・数量等）
A25: (ア)燃料費、有料道路通行料等の移動に伴い必要となる経費
A26: (イ)ネッククーラー（ヒーター）等の猛暑・雪害対策用品の購入等経費
A27: (ウ)燃料費等の入居者・利用者の生活環境改善、職員の負担軽減・勤務環境改善に必要となる経費
A28: (エ)業務用スポットクーラー（ヒーター）等の居室や浴室等における温度管理、湿度管理に必要な設備・物品等の購入等経費
A29: 合計 | H29: =SUM(H25:L28) -> 0
A31: 【（２）災害備蓄等への対応】
A32: 科目 | H32: 支出済額（円） （税抜き） | M32: 内訳（用途・品目・数量等）
A33: (ア)飲料水、食料品等の備蓄物資の購入等経費
A34: (イ)ポータブル発電機、ポータブル電源・蓄電池等の購入等経費
A35: (ウ)衛生用品、医療用品等の購入等経費
A36: (エ)簡易浄水器、冷房機、暖房機、簡易トイレ、清潔保持のための用具等の購入等経費
A37: (オ)その他災害への備えとして必要と認められる経費
A38: 合計 | H38: =SUM(H33:L37) -> 0
A41: （注）申請額は、内示額と支出済額を比較していずれか低い方の額が入力される。

Sheet 個票16
A1: （様式第３号）事業所・施設別個票
A3: 障害福祉サービス事業所等に対するサービス継続支援事業に関する交付申請書兼実績報告書 （事業所・施設単位）
A5: 施設概要
A7: 整理番号 | O7: 事業所名称
A8: 所在地 | D8: 郵便番号 | H8: 都道府県名 | O8: 住所
H9: 広島県
A10: 提供サービス | H10: =IFERROR(VLOOKUP(H7,内示額!A:B,2,FALSE),"") | T10: 連絡先 | W10: 電話番号 | AG10: 担当部署名
A13: 報告にあたっての確認事項
A15: 領収書、レシート等の根拠資料は事業所等において適切に保管している。
A16: 支出済の費用について、他の予算制度に基づく、負担又は補助と重複は生じていない。
A17: 「支出済額」の欄には、対象経費から消費税相当額を除いた実支出額を記載している。
A19: 支出済額
AD21: 内示額 | AI21: 申請額
AD22: =IFERROR(VLOOKUP(H7,内示額!A:C,3,FALSE),"") | AG22: 千円 | AI22: =MIN(AD22,ROUNDDOWN((H29+H38)/1000,0)) -> 0 | AL22: 千円
A23: 【（１）障害福祉サービス等を円滑に継続するための対応】
A24: 科目 | H24: 支出済額（円） （税抜き） | M24: 内訳（用途・品目・数量等）
A25: (ア)燃料費、有料道路通行料等の移動に伴い必要となる経費
A26: (イ)ネッククーラー（ヒーター）等の猛暑・雪害対策用品の購入等経費
A27: (ウ)燃料費等の入居者・利用者の生活環境改善、職員の負担軽減・勤務環境改善に必要となる経費
A28: (エ)業務用スポットクーラー（ヒーター）等の居室や浴室等における温度管理、湿度管理に必要な設備・物品等の購入等経費
A29: 合計 | H29: =SUM(H25:L28) -> 0
A31: 【（２）災害備蓄等への対応】
A32: 科目 | H32: 支出済額（円） （税抜き） | M32: 内訳（用途・品目・数量等）
A33: (ア)飲料水、食料品等の備蓄物資の購入等経費
A34: (イ)ポータブル発電機、ポータブル電源・蓄電池等の購入等経費
A35: (ウ)衛生用品、医療用品等の購入等経費
A36: (エ)簡易浄水器、冷房機、暖房機、簡易トイレ、清潔保持のための用具等の購入等経費
A37: (オ)その他災害への備えとして必要と認められる経費
A38: 合計 | H38: =SUM(H33:L37) -> 0
A41: （注）申請額は、内示額と支出済額を比較していずれか低い方の額が入力される。

Sheet 個票17
A1: （様式第３号）事業所・施設別個票
A3: 障害福祉サービス事業所等に対するサービス継続支援事業に関する交付申請書兼実績報告書 （事業所・施設単位）
A5: 施設概要
A7: 整理番号 | O7: 事業所名称
A8: 所在地 | D8: 郵便番号 | H8: 都道府県名 | O8: 住所
H9: 広島県
A10: 提供サービス | H10: =IFERROR(VLOOKUP(H7,内示額!A:B,2,FALSE),"") | T10: 連絡先 | W10: 電話番号 | AG10: 担当部署名
A13: 報告にあたっての確認事項
A15: 領収書、レシート等の根拠資料は事業所等において適切に保管している。
A16: 支出済の費用について、他の予算制度に基づく、負担又は補助と重複は生じていない。
A17: 「支出済額」の欄には、対象経費から消費税相当額を除いた実支出額を記載している。
A19: 支出済額
AD21: 内示額 | AI21: 申請額
AD22: =IFERROR(VLOOKUP(H7,内示額!A:C,3,FALSE),"") | AG22: 千円 | AI22: =MIN(AD22,ROUNDDOWN((H29+H38)/1000,0)) -> 0 | AL22: 千円
A23: 【（１）障害福祉サービス等を円滑に継続するための対応】
A24: 科目 | H24: 支出済額（円） （税抜き） | M24: 内訳（用途・品目・数量等）
A25: (ア)燃料費、有料道路通行料等の移動に伴い必要となる経費
A26: (イ)ネッククーラー（ヒーター）等の猛暑・雪害対策用品の購入等経費
A27: (ウ)燃料費等の入居者・利用者の生活環境改善、職員の負担軽減・勤務環境改善に必要となる経費
A28: (エ)業務用スポットクーラー（ヒーター）等の居室や浴室等における温度管理、湿度管理に必要な設備・物品等の購入等経費
A29: 合計 | H29: =SUM(H25:L28) -> 0
A31: 【（２）災害備蓄等への対応】
A32: 科目 | H32: 支出済額（円） （税抜き） | M32: 内訳（用途・品目・数量等）
A33: (ア)飲料水、食料品等の備蓄物資の購入等経費
A34: (イ)ポータブル発電機、ポータブル電源・蓄電池等の購入等経費
A35: (ウ)衛生用品、医療用品等の購入等経費
A36: (エ)簡易浄水器、冷房機、暖房機、簡易トイレ、清潔保持のための用具等の購入等経費
A37: (オ)その他災害への備えとして必要と認められる経費
A38: 合計 | H38: =SUM(H33:L37) -> 0
A41: （注）申請額は、内示額と支出済額を比較していずれか低い方の額が入力される。

Sheet 個票18
A1: （様式第３号）事業所・施設別個票
A3: 障害福祉サービス事業所等に対するサービス継続支援事業に関する交付申請書兼実績報告書 （事業所・施設単位）
A5: 施設概要
A7: 整理番号 | O7: 事業所名称
A8: 所在地 | D8: 郵便番号 | H8: 都道府県名 | O8: 住所
H9: 広島県
A10: 提供サービス | H10: =IFERROR(VLOOKUP(H7,内示額!A:B,2,FALSE),"") | T10: 連絡先 | W10: 電話番号 | AG10: 担当部署名
A13: 報告にあたっての確認事項
A15: 領収書、レシート等の根拠資料は事業所等において適切に保管している。
A16: 支出済の費用について、他の予算制度に基づく、負担又は補助と重複は生じていない。
A17: 「支出済額」の欄には、対象経費から消費税相当額を除いた実支出額を記載している。
A19: 支出済額
AD21: 内示額 | AI21: 申請額
AD22: =IFERROR(VLOOKUP(H7,内示額!A:C,3,FALSE),"") | AG22: 千円 | AI22: =MIN(AD22,ROUNDDOWN((H29+H38)/1000,0)) -> 0 | AL22: 千円
A23: 【（１）障害福祉サービス等を円滑に継続するための対応】
A24: 科目 | H24: 支出済額（円） （税抜き） | M24: 内訳（用途・品目・数量等）
A25: (ア)燃料費、有料道路通行料等の移動に伴い必要となる経費
A26: (イ)ネッククーラー（ヒーター）等の猛暑・雪害対策用品の購入等経費
A27: (ウ)燃料費等の入居者・利用者の生活環境改善、職員の負担軽減・勤務環境改善に必要となる経費
A28: (エ)業務用スポットクーラー（ヒーター）等の居室や浴室等における温度管理、湿度管理に必要な設備・物品等の購入等経費
A29: 合計 | H29: =SUM(H25:L28) -> 0
A31: 【（２）災害備蓄等への対応】
A32: 科目 | H32: 支出済額（円） （税抜き） | M32: 内訳（用途・品目・数量等）
A33: (ア)飲料水、食料品等の備蓄物資の購入等経費
A34: (イ)ポータブル発電機、ポータブル電源・蓄電池等の購入等経費
A35: (ウ)衛生用品、医療用品等の購入等経費
A36: (エ)簡易浄水器、冷房機、暖房機、簡易トイレ、清潔保持のための用具等の購入等経費
A37: (オ)その他災害への備えとして必要と認められる経費
A38: 合計 | H38: =SUM(H33:L37) -> 0
A41: （注）申請額は、内示額と支出済額を比較していずれか低い方の額が入力される。

Sheet 個票19
A1: （様式第３号）事業所・施設別個票
A3: 障害福祉サービス事業所等に対するサービス継続支援事業に関する交付申請書兼実績報告書 （事業所・施設単位）
A5: 施設概要
A7: 整理番号 | O7: 事業所名称
A8: 所在地 | D8: 郵便番号 | H8: 都道府県名 | O8: 住所
H9: 広島県
A10: 提供サービス | H10: =IFERROR(VLOOKUP(H7,内示額!A:B,2,FALSE),"") | T10: 連絡先 | W10: 電話番号 | AG10: 担当部署名
A13: 報告にあたっての確認事項
A15: 領収書、レシート等の根拠資料は事業所等において適切に保管している。
A16: 支出済の費用について、他の予算制度に基づく、負担又は補助と重複は生じていない。
A17: 「支出済額」の欄には、対象経費から消費税相当額を除いた実支出額を記載している。
A19: 支出済額
AD21: 内示額 | AI21: 申請額
AD22: =IFERROR(VLOOKUP(H7,内示額!A:C,3,FALSE),"") | AG22: 千円 | AI22: =MIN(AD22,ROUNDDOWN((H29+H38)/1000,0)) -> 0 | AL22: 千円
A23: 【（１）障害福祉サービス等を円滑に継続するための対応】
A24: 科目 | H24: 支出済額（円） （税抜き） | M24: 内訳（用途・品目・数量等）
A25: (ア)燃料費、有料道路通行料等の移動に伴い必要となる経費
A26: (イ)ネッククーラー（ヒーター）等の猛暑・雪害対策用品の購入等経費
A27: (ウ)燃料費等の入居者・利用者の生活環境改善、職員の負担軽減・勤務環境改善に必要となる経費
A28: (エ)業務用スポットクーラー（ヒーター）等の居室や浴室等における温度管理、湿度管理に必要な設備・物品等の購入等経費
A29: 合計 | H29: =SUM(H25:L28) -> 0
A31: 【（２）災害備蓄等への対応】
A32: 科目 | H32: 支出済額（円） （税抜き） | M32: 内訳（用途・品目・数量等）
A33: (ア)飲料水、食料品等の備蓄物資の購入等経費
A34: (イ)ポータブル発電機、ポータブル電源・蓄電池等の購入等経費
A35: (ウ)衛生用品、医療用品等の購入等経費
A36: (エ)簡易浄水器、冷房機、暖房機、簡易トイレ、清潔保持のための用具等の購入等経費
A37: (オ)その他災害への備えとして必要と認められる経費
A38: 合計 | H38: =SUM(H33:L37) -> 0
A41: （注）申請額は、内示額と支出済額を比較していずれか低い方の額が入力される。

Sheet 個票20
A1: （様式第３号）事業所・施設別個票
A3: 障害福祉サービス事業所等に対するサービス継続支援事業に関する交付申請書兼実績報告書 （事業所・施設単位）
A5: 施設概要
A7: 整理番号 | O7: 事業所名称
A8: 所在地 | D8: 郵便番号 | H8: 都道府県名 | O8: 住所
H9: 広島県
A10: 提供サービス | H10: =IFERROR(VLOOKUP(H7,内示額!A:B,2,FALSE),"") | T10: 連絡先 | W10: 電話番号 | AG10: 担当部署名
A13: 報告にあたっての確認事項
A15: 領収書、レシート等の根拠資料は事業所等において適切に保管している。
A16: 支出済の費用について、他の予算制度に基づく、負担又は補助と重複は生じていない。
A17: 「支出済額」の欄には、対象経費から消費税相当額を除いた実支出額を記載している。
A19: 支出済額
AD21: 内示額 | AI21: 申請額
AD22: =IFERROR(VLOOKUP(H7,内示額!A:C,3,FALSE),"") | AG22: 千円 | AI22: =MIN(AD22,ROUNDDOWN((H29+H38)/1000,0)) -> 0 | AL22: 千円
A23: 【（１）障害福祉サービス等を円滑に継続するための対応】
A24: 科目 | H24: 支出済額（円） （税抜き） | M24: 内訳（用途・品目・数量等）
A25: (ア)燃料費、有料道路通行料等の移動に伴い必要となる経費
A26: (イ)ネッククーラー（ヒーター）等の猛暑・雪害対策用品の購入等経費
A27: (ウ)燃料費等の入居者・利用者の生活環境改善、職員の負担軽減・勤務環境改善に必要となる経費
A28: (エ)業務用スポットクーラー（ヒーター）等の居室や浴室等における温度管理、湿度管理に必要な設備・物品等の購入等経費
A29: 合計 | H29: =SUM(H25:L28) -> 0
A31: 【（２）災害備蓄等への対応】
A32: 科目 | H32: 支出済額（円） （税抜き） | M32: 内訳（用途・品目・数量等）
A33: (ア)飲料水、食料品等の備蓄物資の購入等経費
A34: (イ)ポータブル発電機、ポータブル電源・蓄電池等の購入等経費
A35: (ウ)衛生用品、医療用品等の購入等経費
A36: (エ)簡易浄水器、冷房機、暖房機、簡易トイレ、清潔保持のための用具等の購入等経費
A37: (オ)その他災害への備えとして必要と認められる経費
A38: 合計 | H38: =SUM(H33:L37) -> 0
A41: （注）申請額は、内示額と支出済額を比較していずれか低い方の額が入力される。

Sheet 内示額
A1: 整理番号 | B1: サービス種別 | C1: 内示額
A2: 1 | B2: 就労継続支援B型(延べ利用者数300人以下/月) | C2: 180
A3: 2 | B3: 居宅介護(延べ訪問回数200回以下/月) | C3: 270
A4: 3 | B4: 居宅介護(延べ訪問回数200回以下/月) | C4: 270
A5: 4 | B5: 居宅介護(延べ訪問回数201回以上2,000回以下/月) | C5: 360
A6: 5 | B6: 障害児相談支援 | C6: 180
A7: 6 | B7: 居宅介護(延べ訪問回数200回以下/月) | C7: 270
A8: 7 | B8: 居宅介護(延べ訪問回数200回以下/月) | C8: 270
A9: 8 | B9: 共同生活援助 | C9: 118
A10: 9 | B10: 居宅介護(延べ訪問回数200回以下/月) | C10: 270
A11: 10 | B11: 居宅介護(延べ訪問回数200回以下/月) | C11: 270
A12: 11 | B12: 重度訪問介護(延べ訪問回数201回以上2,000回以下/月) | C12: 360
A13: 12 | B13: 居宅介護(延べ訪問回数200回以下/月) | C13: 270
... A1882: 1881 | B1882: 2. 居宅介護(延べ訪問回数200回以下/月) | C1882: 270
A1884: 【記入例用】
A1885: 1900 | B1885: 居宅介護(延べ訪問回数200回以下/月) | C1885: 270
